BEGIN:VCALENDAR
VERSION:2.0
PRODID:-//Ministère de l&#039;Emploi et de la Solidarité sociale - ECPv6.15.0.1//NONSGML v1.0//EN
CALSCALE:GREGORIAN
METHOD:PUBLISH
X-WR-CALNAME:Ministère de l&#039;Emploi et de la Solidarité sociale
X-ORIGINAL-URL:https://www.bibliotheques.gouv.qc.ca
X-WR-CALDESC:Évènements pour Ministère de l&#039;Emploi et de la Solidarité sociale
REFRESH-INTERVAL;VALUE=DURATION:PT1H
X-Robots-Tag:noindex
X-PUBLISHED-TTL:PT1H
BEGIN:VTIMEZONE
TZID:America/New_York
BEGIN:DAYLIGHT
TZOFFSETFROM:-0500
TZOFFSETTO:-0400
TZNAME:EDT
DTSTART:20240310T070000
END:DAYLIGHT
BEGIN:STANDARD
TZOFFSETFROM:-0400
TZOFFSETTO:-0500
TZNAME:EST
DTSTART:20241103T060000
END:STANDARD
END:VTIMEZONE
BEGIN:VEVENT
DTSTART;VALUE=DATE:20240606
DTEND;VALUE=DATE:20240907
DTSTAMP:20260422T152610
CREATED:20240606T142744Z
LAST-MODIFIED:20240606T142749Z
UID:22585-1717632000-1725667199@www.bibliotheques.gouv.qc.ca
SUMMARY:Exposition virtuelle « Héritage et réalités autochtones contemporaines »
DESCRIPTION:En juin\, la Bibliothèque Cécile-Rouleau vous propose l’exposition virtuelle « Héritage et réalités autochtones contemporaines »\, qui présente une sélection d’une quarantaine d’ouvrages récents sur l’histoire\, la culture ainsi que les enjeux politiques\, éducatifs\, sociaux et environnementaux des peuples autochtones du Canada. \nConsultez cette exposition pour approfondir vos connaissances sur différentes facettes de la vie de ces peuples\, de leur héritage plurimillénaire en passant par tous les thèmes d’actualité de leur vie culturelle et politique et des défis qu’ils affrontent au XXIe siècle pour améliorer leurs conditions de vie. \n\n\n\n\n 
URL:https://www.bibliotheques.gouv.qc.ca/evenement/exposition-virtuelle-heritage-et-realites-autochtones-contemporaines/
LOCATION:Bibliothèque Cécile-Rouleau\, 700\, rue Jacques-Parizeau\, RC\, Québec\, Québec\, G1R 5E5\, Canada
CATEGORIES:Expositions à la Bibliothèque Cécile-Rouleau
ORGANIZER:MAILTO:<a href="mailto:"></a>
END:VEVENT
END:VCALENDAR